BEGIN:VCALENDAR
VERSION:2.0
PRODID:-//Plone.org//NONSGML plone.app.event//EN
X-WR-TIMEZONE:Europe/Berlin
BEGIN:VEVENT
SUMMARY:Schuleröffnungs-Gottesdienst
DTSTART;TZID=Europe/Berlin;VALUE=DATE-TIME:20260822T170000
DTEND;TZID=Europe/Berlin;VALUE=DATE-TIME:20260822T180000
DTSTAMP;VALUE=DATE-TIME:20260421T115416Z
UID:357edf19853e465aa519200c1735aed8@localhost:16090
CREATED;VALUE=DATE-TIME:20260121T140756Z
LAST-MODIFIED;VALUE=DATE-TIME:20260121T140809Z
LOCATION:Kath. Kirche Herz Jesu\, Hausen am Albis
URL:https://www.kath-hausen-mettmenstetten.ch/pfarrei-herz-jesu-hausen-am-
 albis/news-und-veranstaltungen/veranstaltungen/schuleroeffnungs-gottesdien
 st
END:VEVENT
BEGIN:VTIMEZONE
TZID:Europe/Berlin
X-LIC-LOCATION:Europe/Berlin
BEGIN:DAYLIGHT
DTSTART;VALUE=DATE-TIME:20260329T030000
TZNAME:CEST
TZOFFSETFROM:+0100
TZOFFSETTO:+0200
END:DAYLIGHT
END:VTIMEZONE
END:VCALENDAR
