BEGIN:VCALENDAR
VERSION:2.0
PRODID:-//Plone.org//NONSGML plone.app.event//EN
X-WR-TIMEZONE:Europe/Berlin
BEGIN:VEVENT
SUMMARY:Abendandacht
DTSTART;TZID=Europe/Berlin;VALUE=DATE-TIME:20260605T190000
DTSTAMP;VALUE=DATE-TIME:20260424T220758Z
UID:8c2dc9e811e74355a05469ff5b1d450c@localhost:16090
CONTACT:Sandra Hanke\, Katechetin\, sandra.hanke@kath-mettmenstetten.ch
CREATED;VALUE=DATE-TIME:20260424T141515Z
DESCRIPTION:Kapelle St. Verena
LAST-MODIFIED;VALUE=DATE-TIME:20260424T141520Z
LOCATION:Kapelle St. Verena\, Aettenschwil
URL:https://www.kath-hausen-mettmenstetten.ch/pfarrei-st-burkard-mettmenst
 etten/news-und-veranstaltungen/veranstaltungen/abendandacht-1
END:VEVENT
BEGIN:VTIMEZONE
TZID:Europe/Berlin
X-LIC-LOCATION:Europe/Berlin
BEGIN:DAYLIGHT
DTSTART;VALUE=DATE-TIME:20260329T030000
TZNAME:CEST
TZOFFSETFROM:+0100
TZOFFSETTO:+0200
END:DAYLIGHT
END:VTIMEZONE
END:VCALENDAR
