BEGIN:VCALENDAR
VERSION:2.0
PRODID:-//Plone.org//NONSGML plone.app.event//EN
X-WR-TIMEZONE:Europe/Berlin
BEGIN:VEVENT
SUMMARY:Abendandacht
DTSTART;TZID=Europe/Berlin;VALUE=DATE-TIME:20250509T183000
DTSTAMP;VALUE=DATE-TIME:20260420T111311Z
UID:fe1b1425d1d14cba93a1b976ebbc51bc@localhost:16090
CONTACT:Sandra Hanke\, Katechetin\, sandra.hanke@kath-mettmenstetten.ch
CREATED;VALUE=DATE-TIME:20250221T125602Z
LAST-MODIFIED;VALUE=DATE-TIME:20250915T092101Z
LOCATION:Kapelle St. Verena in Aettenschwil
URL:https://www.kath-hausen-mettmenstetten.ch/pfarrei-st-burkard-mettmenst
 etten/news-und-veranstaltungen/veranstaltungen/abendandacht
END:VEVENT
BEGIN:VTIMEZONE
TZID:Europe/Berlin
X-LIC-LOCATION:Europe/Berlin
BEGIN:DAYLIGHT
DTSTART;VALUE=DATE-TIME:20250330T030000
TZNAME:CEST
TZOFFSETFROM:+0100
TZOFFSETTO:+0200
END:DAYLIGHT
END:VTIMEZONE
END:VCALENDAR
