BEGIN:VCALENDAR
VERSION:2.0
PRODID:-//Plone.org//NONSGML plone.app.event//EN
X-WR-TIMEZONE:Europe/Berlin
BEGIN:VEVENT
SUMMARY:Frühlingsmarkt Mettmenstetten
DTSTART;TZID=Europe/Berlin;VALUE=DATE-TIME:20260509T100000
DTEND;TZID=Europe/Berlin;VALUE=DATE-TIME:20260509T160000
DTSTAMP;VALUE=DATE-TIME:20260424T221435Z
UID:15775861f27b434b951a1cf00c5c6c92@localhost:16090
CONTACT:Adrian Steiner\, Religionspädagoge\, adrian.steiner@kath-mettmens
 tetten.ch
CREATED;VALUE=DATE-TIME:20260424T140647Z
DESCRIPTION:Handwerk und Köstlichkeiten\, Staunen\, Begegnen\, Geniessen\
 nmit Glücksrad und Überraschungen
LAST-MODIFIED;VALUE=DATE-TIME:20260424T140652Z
LOCATION:Gemeindeplatz Mettmenstetten
URL:https://www.kath-hausen-mettmenstetten.ch/pfarrei-st-burkard-mettmenst
 etten/news-und-veranstaltungen/veranstaltungen/fruehlingsmarkt-mettmenstet
 ten
END:VEVENT
BEGIN:VTIMEZONE
TZID:Europe/Berlin
X-LIC-LOCATION:Europe/Berlin
BEGIN:DAYLIGHT
DTSTART;VALUE=DATE-TIME:20260329T030000
TZNAME:CEST
TZOFFSETFROM:+0100
TZOFFSETTO:+0200
END:DAYLIGHT
END:VTIMEZONE
END:VCALENDAR
