BEGIN:VCALENDAR
VERSION:2.0
PRODID:-//Plone.org//NONSGML plone.app.event//EN
X-WR-TIMEZONE:Europe/Berlin
BEGIN:VEVENT
SUMMARY:Schulschluss Gottesdienst
DTSTART;TZID=Europe/Berlin;VALUE=DATE-TIME:20260619T183000
DTSTAMP;VALUE=DATE-TIME:20260424T221044Z
UID:6cee9fc77cf64e2d8aec630cd9096b10@localhost:16090
CONTACT:Sandra Hanke\, Katechetin\, sandra.hanke@kath-mettmenstetten.ch
CREATED;VALUE=DATE-TIME:20260424T134610Z
DESCRIPTION:"Auf das Zusammenspiel kommt es an"\nAb 17 Uhr Menschentöggel
 i-Spiel
LAST-MODIFIED;VALUE=DATE-TIME:20260424T134614Z
URL:https://www.kath-hausen-mettmenstetten.ch/pfarrei-st-burkard-mettmenst
 etten/news-und-veranstaltungen/veranstaltungen/schulschluss-gottesdienst-1
END:VEVENT
BEGIN:VTIMEZONE
TZID:Europe/Berlin
X-LIC-LOCATION:Europe/Berlin
BEGIN:DAYLIGHT
DTSTART;VALUE=DATE-TIME:20260329T030000
TZNAME:CEST
TZOFFSETFROM:+0100
TZOFFSETTO:+0200
END:DAYLIGHT
END:VTIMEZONE
END:VCALENDAR
